BEGIN:VCALENDAR
VERSION:2.0
PRODID:-//eventon.com NONSGML v1.0//EN
BEGIN:VEVENT
UID:69e753ccc3dcc
DTSTAMP:20260421T123908
DTSTART:20181028T170000Z
DTEND:20181028T235000Z
LOCATION:Aper Markt tba
SUMMARY:Apen - WATT'N SKANDAAL!
DESCRIPTION: Apen - WATT'N SKANDAAL!
URL:https://www.annierockt.de/events/apen-wattn-skandaal/
END:VEVENT
END:VCALENDAR