BEGIN:VCALENDAR
VERSION:2.0
PRODID:-//eventon.com NONSGML v1.0//EN
BEGIN:VEVENT
UID:69e752be2d5ab
DTSTAMP:20260421T123438
DTSTART:20181204T200000Z
DTEND:20181204T235000Z
LOCATION:Oldenburger Landtag GESCHLOSSENE VERANSTALTUNG
SUMMARY:Oldenburg - SWEET SUGAR SWING - Ausschnitte
DESCRIPTION: Oldenburg - SWEET SUGAR SWING - Ausschnitte
URL:https://www.annierockt.de/events/oldenburg-sweet-sugar-swing-ausschnitte/
END:VEVENT
END:VCALENDAR