BEGIN:VCALENDAR
VERSION:2.0
PRODID:-//eventon.com NONSGML v1.0//EN
BEGIN:VEVENT
UID:69e9f459a93ba
DTSTAMP:20260423T122841
DTSTART:20180202T193000Z
DTEND:20180202T235000Z
LOCATION:Musikheim Schuby EINTRITT FREI !! Spenden erbeten.
SUMMARY:Schuby - WATT'N SKANDAAL!
DESCRIPTION: Schuby - WATT'N SKANDAAL!
URL:https://www.annierockt.de/events/schuby-wattn-skandaal/
END:VEVENT
END:VCALENDAR