BEGIN:VCALENDAR
VERSION:2.0
PRODID:-//eventon.com NONSGML v1.0//EN
BEGIN:VEVENT
UID:69e753ccd2112
DTSTAMP:20260421T123908
DTSTART:20180314T200000Z
DTEND:20180314T235000Z
LOCATION:Theater am Küchengarten Tickets: www.tak-hannover.de
SUMMARY:Hannover - EINE GEHT NOCH!
DESCRIPTION: Hannover - EINE GEHT NOCH!
URL:https://www.annierockt.de/events/hannover-eine-geht-noch/
END:VEVENT
END:VCALENDAR