BEGIN:VCALENDAR
VERSION:2.0
PRODID:-//eventon.com NONSGML v1.0//EN
BEGIN:VEVENT
UID:69e756976a778
DTSTAMP:20260421T125103
DTSTART:20180216T200000Z
DTEND:20180216T235000Z
LOCATION:Harms Huus Tickets: 04452 8642
SUMMARY:Neuenburg - Lesung: Dat harr blond so eenfach ween kunnt!
DESCRIPTION: Neuenburg - Lesung: Dat harr blond so eenfach ween kunnt!
URL:https://www.annierockt.de/events/neuenburg-lesung-dat-harr-blond-so-eenfach-ween-kunnt/
END:VEVENT
END:VCALENDAR